BEGIN:VCALENDAR
VERSION:2.0
PRODID:-//A Tavola - ECPv6.15.20//NONSGML v1.0//EN
CALSCALE:GREGORIAN
METHOD:PUBLISH
X-WR-CALNAME:A Tavola
X-ORIGINAL-URL:https://atavola.it
X-WR-CALDESC:Eventi per A Tavola
REFRESH-INTERVAL;VALUE=DURATION:PT1H
X-Robots-Tag:noindex
X-PUBLISHED-TTL:PT1H
BEGIN:VTIMEZONE
TZID:Europe/Rome
BEGIN:DAYLIGHT
TZOFFSETFROM:+0100
TZOFFSETTO:+0200
TZNAME:CEST
DTSTART:20250330T010000
END:DAYLIGHT
BEGIN:STANDARD
TZOFFSETFROM:+0200
TZOFFSETTO:+0100
TZNAME:CET
DTSTART:20251026T010000
END:STANDARD
BEGIN:DAYLIGHT
TZOFFSETFROM:+0100
TZOFFSETTO:+0200
TZNAME:CEST
DTSTART:20260329T010000
END:DAYLIGHT
BEGIN:STANDARD
TZOFFSETFROM:+0200
TZOFFSETTO:+0100
TZNAME:CET
DTSTART:20261025T010000
END:STANDARD
BEGIN:DAYLIGHT
TZOFFSETFROM:+0100
TZOFFSETTO:+0200
TZNAME:CEST
DTSTART:20270328T010000
END:DAYLIGHT
BEGIN:STANDARD
TZOFFSETFROM:+0200
TZOFFSETTO:+0100
TZNAME:CET
DTSTART:20271031T010000
END:STANDARD
END:VTIMEZONE
BEGIN:VEVENT
DTSTART;TZID=Europe/Rome:20260421T080000
DTEND;TZID=Europe/Rome:20260421T130000
DTSTAMP:20260420T190538
CREATED:20250714T131748Z
LAST-MODIFIED:20250805T112242Z
UID:10002912-1776758400-1776776400@atavola.it
SUMMARY:A Tavola! Vercelli
DESCRIPTION:
URL:https://atavola.it/mercato/a-tavola-vercelli/2026-04-21/
LOCATION:Vercelli\, Piazza Massimo d'Azeglio\, Vercelli\, 13100\, Italy
ORGANIZER;CN="A Tavola! Vercelli":MAILTO:expert@atavola.it
GEO:45.3262342;8.4248093
X-APPLE-STRUCTURED-LOCATION;VALUE=URI;X-ADDRESS=Vercelli Piazza Massimo d'Azeglio Vercelli 13100 Italy;X-APPLE-RADIUS=500;X-TITLE=Piazza Massimo d'Azeglio:geo:8.4248093,45.3262342
END:VEVENT
BEGIN:VEVENT
DTSTART;TZID=Europe/Rome:20260424T080000
DTEND;TZID=Europe/Rome:20260424T130000
DTSTAMP:20260420T190538
CREATED:20250804T085943Z
LAST-MODIFIED:20250805T113108Z
UID:10006310-1777017600-1777035600@atavola.it
SUMMARY:A Tavola! Vercelli
DESCRIPTION:
URL:https://atavola.it/mercato/a-tavola-vercelli-2/2026-04-24/
LOCATION:Vercelli\, Piazza Massimo d'Azeglio\, Vercelli\, 13100\, Italy
CATEGORIES:Mercato
ORGANIZER;CN="A Tavola! Vercelli":MAILTO:expert@atavola.it
GEO:45.3262342;8.4248093
X-APPLE-STRUCTURED-LOCATION;VALUE=URI;X-ADDRESS=Vercelli Piazza Massimo d'Azeglio Vercelli 13100 Italy;X-APPLE-RADIUS=500;X-TITLE=Piazza Massimo d'Azeglio:geo:8.4248093,45.3262342
END:VEVENT
BEGIN:VEVENT
DTSTART;TZID=Europe/Rome:20260428T080000
DTEND;TZID=Europe/Rome:20260428T130000
DTSTAMP:20260420T190538
CREATED:20250714T131748Z
LAST-MODIFIED:20250805T112242Z
UID:10002913-1777363200-1777381200@atavola.it
SUMMARY:A Tavola! Vercelli
DESCRIPTION:
URL:https://atavola.it/mercato/a-tavola-vercelli/2026-04-28/
LOCATION:Vercelli\, Piazza Massimo d'Azeglio\, Vercelli\, 13100\, Italy
ORGANIZER;CN="A Tavola! Vercelli":MAILTO:expert@atavola.it
GEO:45.3262342;8.4248093
X-APPLE-STRUCTURED-LOCATION;VALUE=URI;X-ADDRESS=Vercelli Piazza Massimo d'Azeglio Vercelli 13100 Italy;X-APPLE-RADIUS=500;X-TITLE=Piazza Massimo d'Azeglio:geo:8.4248093,45.3262342
END:VEVENT
BEGIN:VEVENT
DTSTART;TZID=Europe/Rome:20260501T080000
DTEND;TZID=Europe/Rome:20260501T130000
DTSTAMP:20260420T190538
CREATED:20250804T085943Z
LAST-MODIFIED:20250805T113108Z
UID:10006311-1777622400-1777640400@atavola.it
SUMMARY:A Tavola! Vercelli
DESCRIPTION:
URL:https://atavola.it/mercato/a-tavola-vercelli-2/2026-05-01/
LOCATION:Vercelli\, Piazza Massimo d'Azeglio\, Vercelli\, 13100\, Italy
CATEGORIES:Mercato
ORGANIZER;CN="A Tavola! Vercelli":MAILTO:expert@atavola.it
GEO:45.3262342;8.4248093
X-APPLE-STRUCTURED-LOCATION;VALUE=URI;X-ADDRESS=Vercelli Piazza Massimo d'Azeglio Vercelli 13100 Italy;X-APPLE-RADIUS=500;X-TITLE=Piazza Massimo d'Azeglio:geo:8.4248093,45.3262342
END:VEVENT
BEGIN:VEVENT
DTSTART;TZID=Europe/Rome:20260505T080000
DTEND;TZID=Europe/Rome:20260505T130000
DTSTAMP:20260420T190538
CREATED:20250714T131748Z
LAST-MODIFIED:20250805T112242Z
UID:10002914-1777968000-1777986000@atavola.it
SUMMARY:A Tavola! Vercelli
DESCRIPTION:
URL:https://atavola.it/mercato/a-tavola-vercelli/2026-05-05/
LOCATION:Vercelli\, Piazza Massimo d'Azeglio\, Vercelli\, 13100\, Italy
ORGANIZER;CN="A Tavola! Vercelli":MAILTO:expert@atavola.it
GEO:45.3262342;8.4248093
X-APPLE-STRUCTURED-LOCATION;VALUE=URI;X-ADDRESS=Vercelli Piazza Massimo d'Azeglio Vercelli 13100 Italy;X-APPLE-RADIUS=500;X-TITLE=Piazza Massimo d'Azeglio:geo:8.4248093,45.3262342
END:VEVENT
BEGIN:VEVENT
DTSTART;TZID=Europe/Rome:20260508T080000
DTEND;TZID=Europe/Rome:20260508T130000
DTSTAMP:20260420T190538
CREATED:20250804T085943Z
LAST-MODIFIED:20250805T113108Z
UID:10006312-1778227200-1778245200@atavola.it
SUMMARY:A Tavola! Vercelli
DESCRIPTION:
URL:https://atavola.it/mercato/a-tavola-vercelli-2/2026-05-08/
LOCATION:Vercelli\, Piazza Massimo d'Azeglio\, Vercelli\, 13100\, Italy
CATEGORIES:Mercato
ORGANIZER;CN="A Tavola! Vercelli":MAILTO:expert@atavola.it
GEO:45.3262342;8.4248093
X-APPLE-STRUCTURED-LOCATION;VALUE=URI;X-ADDRESS=Vercelli Piazza Massimo d'Azeglio Vercelli 13100 Italy;X-APPLE-RADIUS=500;X-TITLE=Piazza Massimo d'Azeglio:geo:8.4248093,45.3262342
END:VEVENT
BEGIN:VEVENT
DTSTART;TZID=Europe/Rome:20260512T080000
DTEND;TZID=Europe/Rome:20260512T130000
DTSTAMP:20260420T190538
CREATED:20250714T131748Z
LAST-MODIFIED:20250805T112242Z
UID:10002915-1778572800-1778590800@atavola.it
SUMMARY:A Tavola! Vercelli
DESCRIPTION:
URL:https://atavola.it/mercato/a-tavola-vercelli/2026-05-12/
LOCATION:Vercelli\, Piazza Massimo d'Azeglio\, Vercelli\, 13100\, Italy
ORGANIZER;CN="A Tavola! Vercelli":MAILTO:expert@atavola.it
GEO:45.3262342;8.4248093
X-APPLE-STRUCTURED-LOCATION;VALUE=URI;X-ADDRESS=Vercelli Piazza Massimo d'Azeglio Vercelli 13100 Italy;X-APPLE-RADIUS=500;X-TITLE=Piazza Massimo d'Azeglio:geo:8.4248093,45.3262342
END:VEVENT
BEGIN:VEVENT
DTSTART;TZID=Europe/Rome:20260515T080000
DTEND;TZID=Europe/Rome:20260515T130000
DTSTAMP:20260420T190538
CREATED:20250804T085943Z
LAST-MODIFIED:20250805T113108Z
UID:10006313-1778832000-1778850000@atavola.it
SUMMARY:A Tavola! Vercelli
DESCRIPTION:
URL:https://atavola.it/mercato/a-tavola-vercelli-2/2026-05-15/
LOCATION:Vercelli\, Piazza Massimo d'Azeglio\, Vercelli\, 13100\, Italy
CATEGORIES:Mercato
ORGANIZER;CN="A Tavola! Vercelli":MAILTO:expert@atavola.it
GEO:45.3262342;8.4248093
X-APPLE-STRUCTURED-LOCATION;VALUE=URI;X-ADDRESS=Vercelli Piazza Massimo d'Azeglio Vercelli 13100 Italy;X-APPLE-RADIUS=500;X-TITLE=Piazza Massimo d'Azeglio:geo:8.4248093,45.3262342
END:VEVENT
BEGIN:VEVENT
DTSTART;TZID=Europe/Rome:20260519T080000
DTEND;TZID=Europe/Rome:20260519T130000
DTSTAMP:20260420T190538
CREATED:20250714T131748Z
LAST-MODIFIED:20250805T112242Z
UID:10002916-1779177600-1779195600@atavola.it
SUMMARY:A Tavola! Vercelli
DESCRIPTION:
URL:https://atavola.it/mercato/a-tavola-vercelli/2026-05-19/
LOCATION:Vercelli\, Piazza Massimo d'Azeglio\, Vercelli\, 13100\, Italy
ORGANIZER;CN="A Tavola! Vercelli":MAILTO:expert@atavola.it
GEO:45.3262342;8.4248093
X-APPLE-STRUCTURED-LOCATION;VALUE=URI;X-ADDRESS=Vercelli Piazza Massimo d'Azeglio Vercelli 13100 Italy;X-APPLE-RADIUS=500;X-TITLE=Piazza Massimo d'Azeglio:geo:8.4248093,45.3262342
END:VEVENT
BEGIN:VEVENT
DTSTART;TZID=Europe/Rome:20260522T080000
DTEND;TZID=Europe/Rome:20260522T130000
DTSTAMP:20260420T190538
CREATED:20250804T085943Z
LAST-MODIFIED:20250805T113108Z
UID:10006314-1779436800-1779454800@atavola.it
SUMMARY:A Tavola! Vercelli
DESCRIPTION:
URL:https://atavola.it/mercato/a-tavola-vercelli-2/2026-05-22/
LOCATION:Vercelli\, Piazza Massimo d'Azeglio\, Vercelli\, 13100\, Italy
CATEGORIES:Mercato
ORGANIZER;CN="A Tavola! Vercelli":MAILTO:expert@atavola.it
GEO:45.3262342;8.4248093
X-APPLE-STRUCTURED-LOCATION;VALUE=URI;X-ADDRESS=Vercelli Piazza Massimo d'Azeglio Vercelli 13100 Italy;X-APPLE-RADIUS=500;X-TITLE=Piazza Massimo d'Azeglio:geo:8.4248093,45.3262342
END:VEVENT
BEGIN:VEVENT
DTSTART;TZID=Europe/Rome:20260526T080000
DTEND;TZID=Europe/Rome:20260526T130000
DTSTAMP:20260420T190538
CREATED:20250714T131748Z
LAST-MODIFIED:20250805T112242Z
UID:10002917-1779782400-1779800400@atavola.it
SUMMARY:A Tavola! Vercelli
DESCRIPTION:
URL:https://atavola.it/mercato/a-tavola-vercelli/2026-05-26/
LOCATION:Vercelli\, Piazza Massimo d'Azeglio\, Vercelli\, 13100\, Italy
ORGANIZER;CN="A Tavola! Vercelli":MAILTO:expert@atavola.it
GEO:45.3262342;8.4248093
X-APPLE-STRUCTURED-LOCATION;VALUE=URI;X-ADDRESS=Vercelli Piazza Massimo d'Azeglio Vercelli 13100 Italy;X-APPLE-RADIUS=500;X-TITLE=Piazza Massimo d'Azeglio:geo:8.4248093,45.3262342
END:VEVENT
BEGIN:VEVENT
DTSTART;TZID=Europe/Rome:20260529T080000
DTEND;TZID=Europe/Rome:20260529T130000
DTSTAMP:20260420T190538
CREATED:20250804T085943Z
LAST-MODIFIED:20250805T113108Z
UID:10006315-1780041600-1780059600@atavola.it
SUMMARY:A Tavola! Vercelli
DESCRIPTION:
URL:https://atavola.it/mercato/a-tavola-vercelli-2/2026-05-29/
LOCATION:Vercelli\, Piazza Massimo d'Azeglio\, Vercelli\, 13100\, Italy
CATEGORIES:Mercato
ORGANIZER;CN="A Tavola! Vercelli":MAILTO:expert@atavola.it
GEO:45.3262342;8.4248093
X-APPLE-STRUCTURED-LOCATION;VALUE=URI;X-ADDRESS=Vercelli Piazza Massimo d'Azeglio Vercelli 13100 Italy;X-APPLE-RADIUS=500;X-TITLE=Piazza Massimo d'Azeglio:geo:8.4248093,45.3262342
END:VEVENT
BEGIN:VEVENT
DTSTART;TZID=Europe/Rome:20260602T080000
DTEND;TZID=Europe/Rome:20260602T130000
DTSTAMP:20260420T190538
CREATED:20250714T131748Z
LAST-MODIFIED:20250805T112242Z
UID:10002918-1780387200-1780405200@atavola.it
SUMMARY:A Tavola! Vercelli
DESCRIPTION:
URL:https://atavola.it/mercato/a-tavola-vercelli/2026-06-02/
LOCATION:Vercelli\, Piazza Massimo d'Azeglio\, Vercelli\, 13100\, Italy
ORGANIZER;CN="A Tavola! Vercelli":MAILTO:expert@atavola.it
GEO:45.3262342;8.4248093
X-APPLE-STRUCTURED-LOCATION;VALUE=URI;X-ADDRESS=Vercelli Piazza Massimo d'Azeglio Vercelli 13100 Italy;X-APPLE-RADIUS=500;X-TITLE=Piazza Massimo d'Azeglio:geo:8.4248093,45.3262342
END:VEVENT
BEGIN:VEVENT
DTSTART;TZID=Europe/Rome:20260605T080000
DTEND;TZID=Europe/Rome:20260605T130000
DTSTAMP:20260420T190538
CREATED:20250804T085943Z
LAST-MODIFIED:20250805T113108Z
UID:10006316-1780646400-1780664400@atavola.it
SUMMARY:A Tavola! Vercelli
DESCRIPTION:
URL:https://atavola.it/mercato/a-tavola-vercelli-2/2026-06-05/
LOCATION:Vercelli\, Piazza Massimo d'Azeglio\, Vercelli\, 13100\, Italy
CATEGORIES:Mercato
ORGANIZER;CN="A Tavola! Vercelli":MAILTO:expert@atavola.it
GEO:45.3262342;8.4248093
X-APPLE-STRUCTURED-LOCATION;VALUE=URI;X-ADDRESS=Vercelli Piazza Massimo d'Azeglio Vercelli 13100 Italy;X-APPLE-RADIUS=500;X-TITLE=Piazza Massimo d'Azeglio:geo:8.4248093,45.3262342
END:VEVENT
BEGIN:VEVENT
DTSTART;TZID=Europe/Rome:20260609T080000
DTEND;TZID=Europe/Rome:20260609T130000
DTSTAMP:20260420T190538
CREATED:20250714T131748Z
LAST-MODIFIED:20250805T112242Z
UID:10002919-1780992000-1781010000@atavola.it
SUMMARY:A Tavola! Vercelli
DESCRIPTION:
URL:https://atavola.it/mercato/a-tavola-vercelli/2026-06-09/
LOCATION:Vercelli\, Piazza Massimo d'Azeglio\, Vercelli\, 13100\, Italy
ORGANIZER;CN="A Tavola! Vercelli":MAILTO:expert@atavola.it
GEO:45.3262342;8.4248093
X-APPLE-STRUCTURED-LOCATION;VALUE=URI;X-ADDRESS=Vercelli Piazza Massimo d'Azeglio Vercelli 13100 Italy;X-APPLE-RADIUS=500;X-TITLE=Piazza Massimo d'Azeglio:geo:8.4248093,45.3262342
END:VEVENT
BEGIN:VEVENT
DTSTART;TZID=Europe/Rome:20260612T080000
DTEND;TZID=Europe/Rome:20260612T130000
DTSTAMP:20260420T190538
CREATED:20250804T085943Z
LAST-MODIFIED:20250805T113108Z
UID:10006317-1781251200-1781269200@atavola.it
SUMMARY:A Tavola! Vercelli
DESCRIPTION:
URL:https://atavola.it/mercato/a-tavola-vercelli-2/2026-06-12/
LOCATION:Vercelli\, Piazza Massimo d'Azeglio\, Vercelli\, 13100\, Italy
CATEGORIES:Mercato
ORGANIZER;CN="A Tavola! Vercelli":MAILTO:expert@atavola.it
GEO:45.3262342;8.4248093
X-APPLE-STRUCTURED-LOCATION;VALUE=URI;X-ADDRESS=Vercelli Piazza Massimo d'Azeglio Vercelli 13100 Italy;X-APPLE-RADIUS=500;X-TITLE=Piazza Massimo d'Azeglio:geo:8.4248093,45.3262342
END:VEVENT
BEGIN:VEVENT
DTSTART;TZID=Europe/Rome:20260616T080000
DTEND;TZID=Europe/Rome:20260616T130000
DTSTAMP:20260420T190538
CREATED:20250714T131748Z
LAST-MODIFIED:20250805T112242Z
UID:10002920-1781596800-1781614800@atavola.it
SUMMARY:A Tavola! Vercelli
DESCRIPTION:
URL:https://atavola.it/mercato/a-tavola-vercelli/2026-06-16/
LOCATION:Vercelli\, Piazza Massimo d'Azeglio\, Vercelli\, 13100\, Italy
ORGANIZER;CN="A Tavola! Vercelli":MAILTO:expert@atavola.it
GEO:45.3262342;8.4248093
X-APPLE-STRUCTURED-LOCATION;VALUE=URI;X-ADDRESS=Vercelli Piazza Massimo d'Azeglio Vercelli 13100 Italy;X-APPLE-RADIUS=500;X-TITLE=Piazza Massimo d'Azeglio:geo:8.4248093,45.3262342
END:VEVENT
BEGIN:VEVENT
DTSTART;TZID=Europe/Rome:20260619T080000
DTEND;TZID=Europe/Rome:20260619T130000
DTSTAMP:20260420T190538
CREATED:20250804T085943Z
LAST-MODIFIED:20250805T113108Z
UID:10006318-1781856000-1781874000@atavola.it
SUMMARY:A Tavola! Vercelli
DESCRIPTION:
URL:https://atavola.it/mercato/a-tavola-vercelli-2/2026-06-19/
LOCATION:Vercelli\, Piazza Massimo d'Azeglio\, Vercelli\, 13100\, Italy
CATEGORIES:Mercato
ORGANIZER;CN="A Tavola! Vercelli":MAILTO:expert@atavola.it
GEO:45.3262342;8.4248093
X-APPLE-STRUCTURED-LOCATION;VALUE=URI;X-ADDRESS=Vercelli Piazza Massimo d'Azeglio Vercelli 13100 Italy;X-APPLE-RADIUS=500;X-TITLE=Piazza Massimo d'Azeglio:geo:8.4248093,45.3262342
END:VEVENT
BEGIN:VEVENT
DTSTART;TZID=Europe/Rome:20260623T080000
DTEND;TZID=Europe/Rome:20260623T130000
DTSTAMP:20260420T190538
CREATED:20250714T131748Z
LAST-MODIFIED:20250805T112242Z
UID:10002921-1782201600-1782219600@atavola.it
SUMMARY:A Tavola! Vercelli
DESCRIPTION:
URL:https://atavola.it/mercato/a-tavola-vercelli/2026-06-23/
LOCATION:Vercelli\, Piazza Massimo d'Azeglio\, Vercelli\, 13100\, Italy
ORGANIZER;CN="A Tavola! Vercelli":MAILTO:expert@atavola.it
GEO:45.3262342;8.4248093
X-APPLE-STRUCTURED-LOCATION;VALUE=URI;X-ADDRESS=Vercelli Piazza Massimo d'Azeglio Vercelli 13100 Italy;X-APPLE-RADIUS=500;X-TITLE=Piazza Massimo d'Azeglio:geo:8.4248093,45.3262342
END:VEVENT
BEGIN:VEVENT
DTSTART;TZID=Europe/Rome:20260626T080000
DTEND;TZID=Europe/Rome:20260626T130000
DTSTAMP:20260420T190538
CREATED:20250804T085943Z
LAST-MODIFIED:20250805T113108Z
UID:10006319-1782460800-1782478800@atavola.it
SUMMARY:A Tavola! Vercelli
DESCRIPTION:
URL:https://atavola.it/mercato/a-tavola-vercelli-2/2026-06-26/
LOCATION:Vercelli\, Piazza Massimo d'Azeglio\, Vercelli\, 13100\, Italy
CATEGORIES:Mercato
ORGANIZER;CN="A Tavola! Vercelli":MAILTO:expert@atavola.it
GEO:45.3262342;8.4248093
X-APPLE-STRUCTURED-LOCATION;VALUE=URI;X-ADDRESS=Vercelli Piazza Massimo d'Azeglio Vercelli 13100 Italy;X-APPLE-RADIUS=500;X-TITLE=Piazza Massimo d'Azeglio:geo:8.4248093,45.3262342
END:VEVENT
BEGIN:VEVENT
DTSTART;TZID=Europe/Rome:20260630T080000
DTEND;TZID=Europe/Rome:20260630T130000
DTSTAMP:20260420T190538
CREATED:20250714T131748Z
LAST-MODIFIED:20250805T112242Z
UID:10002922-1782806400-1782824400@atavola.it
SUMMARY:A Tavola! Vercelli
DESCRIPTION:
URL:https://atavola.it/mercato/a-tavola-vercelli/2026-06-30/
LOCATION:Vercelli\, Piazza Massimo d'Azeglio\, Vercelli\, 13100\, Italy
ORGANIZER;CN="A Tavola! Vercelli":MAILTO:expert@atavola.it
GEO:45.3262342;8.4248093
X-APPLE-STRUCTURED-LOCATION;VALUE=URI;X-ADDRESS=Vercelli Piazza Massimo d'Azeglio Vercelli 13100 Italy;X-APPLE-RADIUS=500;X-TITLE=Piazza Massimo d'Azeglio:geo:8.4248093,45.3262342
END:VEVENT
BEGIN:VEVENT
DTSTART;TZID=Europe/Rome:20260703T080000
DTEND;TZID=Europe/Rome:20260703T130000
DTSTAMP:20260420T190538
CREATED:20250804T085943Z
LAST-MODIFIED:20250805T113108Z
UID:10006320-1783065600-1783083600@atavola.it
SUMMARY:A Tavola! Vercelli
DESCRIPTION:
URL:https://atavola.it/mercato/a-tavola-vercelli-2/2026-07-03/
LOCATION:Vercelli\, Piazza Massimo d'Azeglio\, Vercelli\, 13100\, Italy
CATEGORIES:Mercato
ORGANIZER;CN="A Tavola! Vercelli":MAILTO:expert@atavola.it
GEO:45.3262342;8.4248093
X-APPLE-STRUCTURED-LOCATION;VALUE=URI;X-ADDRESS=Vercelli Piazza Massimo d'Azeglio Vercelli 13100 Italy;X-APPLE-RADIUS=500;X-TITLE=Piazza Massimo d'Azeglio:geo:8.4248093,45.3262342
END:VEVENT
BEGIN:VEVENT
DTSTART;TZID=Europe/Rome:20260707T080000
DTEND;TZID=Europe/Rome:20260707T130000
DTSTAMP:20260420T190538
CREATED:20250714T131748Z
LAST-MODIFIED:20250805T112242Z
UID:10002923-1783411200-1783429200@atavola.it
SUMMARY:A Tavola! Vercelli
DESCRIPTION:
URL:https://atavola.it/mercato/a-tavola-vercelli/2026-07-07/
LOCATION:Vercelli\, Piazza Massimo d'Azeglio\, Vercelli\, 13100\, Italy
ORGANIZER;CN="A Tavola! Vercelli":MAILTO:expert@atavola.it
GEO:45.3262342;8.4248093
X-APPLE-STRUCTURED-LOCATION;VALUE=URI;X-ADDRESS=Vercelli Piazza Massimo d'Azeglio Vercelli 13100 Italy;X-APPLE-RADIUS=500;X-TITLE=Piazza Massimo d'Azeglio:geo:8.4248093,45.3262342
END:VEVENT
BEGIN:VEVENT
DTSTART;TZID=Europe/Rome:20260710T080000
DTEND;TZID=Europe/Rome:20260710T130000
DTSTAMP:20260420T190538
CREATED:20250804T085943Z
LAST-MODIFIED:20250805T113108Z
UID:10006321-1783670400-1783688400@atavola.it
SUMMARY:A Tavola! Vercelli
DESCRIPTION:
URL:https://atavola.it/mercato/a-tavola-vercelli-2/2026-07-10/
LOCATION:Vercelli\, Piazza Massimo d'Azeglio\, Vercelli\, 13100\, Italy
CATEGORIES:Mercato
ORGANIZER;CN="A Tavola! Vercelli":MAILTO:expert@atavola.it
GEO:45.3262342;8.4248093
X-APPLE-STRUCTURED-LOCATION;VALUE=URI;X-ADDRESS=Vercelli Piazza Massimo d'Azeglio Vercelli 13100 Italy;X-APPLE-RADIUS=500;X-TITLE=Piazza Massimo d'Azeglio:geo:8.4248093,45.3262342
END:VEVENT
BEGIN:VEVENT
DTSTART;TZID=Europe/Rome:20260714T080000
DTEND;TZID=Europe/Rome:20260714T130000
DTSTAMP:20260420T190538
CREATED:20250714T131748Z
LAST-MODIFIED:20250805T112242Z
UID:10002924-1784016000-1784034000@atavola.it
SUMMARY:A Tavola! Vercelli
DESCRIPTION:
URL:https://atavola.it/mercato/a-tavola-vercelli/2026-07-14/
LOCATION:Vercelli\, Piazza Massimo d'Azeglio\, Vercelli\, 13100\, Italy
ORGANIZER;CN="A Tavola! Vercelli":MAILTO:expert@atavola.it
GEO:45.3262342;8.4248093
X-APPLE-STRUCTURED-LOCATION;VALUE=URI;X-ADDRESS=Vercelli Piazza Massimo d'Azeglio Vercelli 13100 Italy;X-APPLE-RADIUS=500;X-TITLE=Piazza Massimo d'Azeglio:geo:8.4248093,45.3262342
END:VEVENT
BEGIN:VEVENT
DTSTART;TZID=Europe/Rome:20260717T080000
DTEND;TZID=Europe/Rome:20260717T130000
DTSTAMP:20260420T190538
CREATED:20250804T085943Z
LAST-MODIFIED:20250805T113108Z
UID:10006322-1784275200-1784293200@atavola.it
SUMMARY:A Tavola! Vercelli
DESCRIPTION:
URL:https://atavola.it/mercato/a-tavola-vercelli-2/2026-07-17/
LOCATION:Vercelli\, Piazza Massimo d'Azeglio\, Vercelli\, 13100\, Italy
CATEGORIES:Mercato
ORGANIZER;CN="A Tavola! Vercelli":MAILTO:expert@atavola.it
GEO:45.3262342;8.4248093
X-APPLE-STRUCTURED-LOCATION;VALUE=URI;X-ADDRESS=Vercelli Piazza Massimo d'Azeglio Vercelli 13100 Italy;X-APPLE-RADIUS=500;X-TITLE=Piazza Massimo d'Azeglio:geo:8.4248093,45.3262342
END:VEVENT
BEGIN:VEVENT
DTSTART;TZID=Europe/Rome:20260721T080000
DTEND;TZID=Europe/Rome:20260721T130000
DTSTAMP:20260420T190538
CREATED:20250714T131748Z
LAST-MODIFIED:20250805T112242Z
UID:10002925-1784620800-1784638800@atavola.it
SUMMARY:A Tavola! Vercelli
DESCRIPTION:
URL:https://atavola.it/mercato/a-tavola-vercelli/2026-07-21/
LOCATION:Vercelli\, Piazza Massimo d'Azeglio\, Vercelli\, 13100\, Italy
ORGANIZER;CN="A Tavola! Vercelli":MAILTO:expert@atavola.it
GEO:45.3262342;8.4248093
X-APPLE-STRUCTURED-LOCATION;VALUE=URI;X-ADDRESS=Vercelli Piazza Massimo d'Azeglio Vercelli 13100 Italy;X-APPLE-RADIUS=500;X-TITLE=Piazza Massimo d'Azeglio:geo:8.4248093,45.3262342
END:VEVENT
BEGIN:VEVENT
DTSTART;TZID=Europe/Rome:20260724T080000
DTEND;TZID=Europe/Rome:20260724T130000
DTSTAMP:20260420T190538
CREATED:20250804T085943Z
LAST-MODIFIED:20250805T113108Z
UID:10006323-1784880000-1784898000@atavola.it
SUMMARY:A Tavola! Vercelli
DESCRIPTION:
URL:https://atavola.it/mercato/a-tavola-vercelli-2/2026-07-24/
LOCATION:Vercelli\, Piazza Massimo d'Azeglio\, Vercelli\, 13100\, Italy
CATEGORIES:Mercato
ORGANIZER;CN="A Tavola! Vercelli":MAILTO:expert@atavola.it
GEO:45.3262342;8.4248093
X-APPLE-STRUCTURED-LOCATION;VALUE=URI;X-ADDRESS=Vercelli Piazza Massimo d'Azeglio Vercelli 13100 Italy;X-APPLE-RADIUS=500;X-TITLE=Piazza Massimo d'Azeglio:geo:8.4248093,45.3262342
END:VEVENT
BEGIN:VEVENT
DTSTART;TZID=Europe/Rome:20260728T080000
DTEND;TZID=Europe/Rome:20260728T130000
DTSTAMP:20260420T190538
CREATED:20250714T131748Z
LAST-MODIFIED:20250805T112242Z
UID:10002926-1785225600-1785243600@atavola.it
SUMMARY:A Tavola! Vercelli
DESCRIPTION:
URL:https://atavola.it/mercato/a-tavola-vercelli/2026-07-28/
LOCATION:Vercelli\, Piazza Massimo d'Azeglio\, Vercelli\, 13100\, Italy
ORGANIZER;CN="A Tavola! Vercelli":MAILTO:expert@atavola.it
GEO:45.3262342;8.4248093
X-APPLE-STRUCTURED-LOCATION;VALUE=URI;X-ADDRESS=Vercelli Piazza Massimo d'Azeglio Vercelli 13100 Italy;X-APPLE-RADIUS=500;X-TITLE=Piazza Massimo d'Azeglio:geo:8.4248093,45.3262342
END:VEVENT
BEGIN:VEVENT
DTSTART;TZID=Europe/Rome:20260731T080000
DTEND;TZID=Europe/Rome:20260731T130000
DTSTAMP:20260420T190538
CREATED:20250804T085943Z
LAST-MODIFIED:20250805T113108Z
UID:10006324-1785484800-1785502800@atavola.it
SUMMARY:A Tavola! Vercelli
DESCRIPTION:
URL:https://atavola.it/mercato/a-tavola-vercelli-2/2026-07-31/
LOCATION:Vercelli\, Piazza Massimo d'Azeglio\, Vercelli\, 13100\, Italy
CATEGORIES:Mercato
ORGANIZER;CN="A Tavola! Vercelli":MAILTO:expert@atavola.it
GEO:45.3262342;8.4248093
X-APPLE-STRUCTURED-LOCATION;VALUE=URI;X-ADDRESS=Vercelli Piazza Massimo d'Azeglio Vercelli 13100 Italy;X-APPLE-RADIUS=500;X-TITLE=Piazza Massimo d'Azeglio:geo:8.4248093,45.3262342
END:VEVENT
END:VCALENDAR